BEGIN:VCALENDAR
PRODID:-//Microsoft Corporation//Outlook 10.0 MIMEDIR//EN
VERSION:2.0
METHOD:REQUEST
BEGIN:VTIMEZONE
TZID:Pacific Time
BEGIN:STANDARD
DTSTART:20141101T020000
RRULE:FREQ=YEARLY;INTERVAL=1;BYDAY=1SU;BYMONTH=11
TZOFFSETFROM:-0700
TZOFFSETTO:-0800
TZNAME:Standard Time
END:STANDARD
BEGIN:DAYLIGHT
DTSTART:20140301T020000
RRULE:FREQ=YEARLY;INTERVAL=1;BYDAY=2SU;BYMONTH=3
TZOFFSETFROM:-0800
TZOFFSETTO:-0700
TZNAME:Daylight Savings Time
END:DAYLIGHT
END:VTIMEZONE
BEGIN:VEVENT
ATTENDEE;CN="";ROLE=REQ-PARTICIPANT;RSVP=TRUE:MAILTO:christen.1858@comcast.net
ORGANIZER;CN="Ernst Christen":MAILTO:ernst_christen@mentor.com
DTSTART;TZID="Pacific Time":20160113T080000
DTEND;TZID="Pacific Time":20160113T090000
LOCATION:https://mentor.webex.com/mentor
TRANSP:OPAQUE
SEQUENCE:1452018691
UID:74030c38-e4b6-40f3-badf-bb1ee34cfe44
DTSTAMP:20160113T160000Z
DESCRIPTION:\n\n\nJOIN WEBEX MEETING\nhttps://mentor.webex.com/mentor/j.php?MTID=mc4664e5169df1ce4490ad9b7fdd6b722\nMeeting number: 713 220 328\nMeeting password: 5MUXfM72\n\n\nJOIN BY PHONE\nDial-In: \nUS & Canada: 800-637-5822\nUS Toll:     917-210-2607\nGermany:     0800-101-4542\nItaly:       800-785-295\nSwitzerland: 0800-561-819\n\nMeeting ID 6850759\n\n\n\nCan't join the meeting? Contact support here:\nhttps://mentor.webex.com/mentor/mc\n\n\nIMPORTANT NOTICE: Please note that this WebEx service allows audio and other information sent during the session to be recorded, which may be discoverable in a legal matter. By joining this session, you automatically consent to such recordings. If you do not consent to being recorded, discuss your concerns with the host or do not join the session.\n
X-ALT-DESC;FMTTYPE=text/html:	<FONT SIZE="1" FACE="ARIAL">&nbsp;<BR> <FONT SIZE="4" FACE="ARIAL">		<a					href="https://mentor.webex.com/mentor/j.php?MTID=mc4664e5169df1ce4490ad9b7fdd6b722"><FONT SIZE="3" COLOR="#00AFF9" FACE="Arial">Join WebEx meeting</FONT></a>			<table>				<tr>					<td>						<FONT SIZE="2" COLOR="#666666" FACE="arial">Meeting number:</FONT>					</td>					<td>						<FONT SIZE="2" COLOR="#666666" FACE="arial">713 220 328</FONT>					</td>				</tr>			</table>			<table><tr><td><FONT SIZE="2" COLOR="#666666" FACE="arial">Meeting password:</FONT></td><td><FONT SIZE="2"  COLOR="#666666" FACE="arial">5MUXfM72</FONT></td></tr></table>		</FONT><FONT SIZE="1" FACE="ARIAL">&nbsp;<BR>&nbsp;<BR></FONT><FONT SIZE="4" FACE="ARIAL"><FONT SIZE="3" COLOR="#666666" FACE="arial">Join by phone</FONT> &nbsp; <BR><FONT SIZE="2" COLOR="#666666" FACE="arial">Dial-In: US & Canada: 800-637-5822US Toll:     917-210-2607Germany:     0800-101-4542Italy:       800-785-295Switzerland: 0800-561-819Meeting ID 6850759</FONT>&nbsp; <BR></FONT><BR><BR>	&nbsp;<BR>	<FONT SIZE="1" COLOR="#666666" FACE="arial">				Can't join the meeting?</FONT>	<a href="https://mentor.webex.com/mentor/mc">	<FONT SIZE="1" COLOR="#00AFF9" FACE="Arial">Contact support.</FONT></a>	&nbsp;<BR>&nbsp;<BR><FONT COLOR="#A0A0A0" size="1" FACE="arial">IMPORTANT NOTICE: Please note that this WebEx service allows audio and other information sent during the session to be recorded, which may be discoverable in a legal matter. By joining this session, you automatically consent to such recordings. If you do not consent to being recorded, discuss your concerns with the host or do not join the session.</FONT></FONT>
SUMMARY:IEEE P1076.1 Working Group Meeting
PRIORITY:5
CLASS:PUBLIC
END:VEVENT
END:VCALENDAR

